BEGIN:VCALENDAR
METHOD:PUBLISH
VERSION:2.0
CALSCALE:GREGORIAN
PRODID:-//NONSGML WPForms//NONSGML Sugar Calendar Feeds v3.11.0//EN
X-WR-CALNAME:Winter Solstice Celebration
X-WR-CALDESC:New Neighbors Guide
X-WR-TIMEZONE:America/Los_Angeles
BEGIN:VTIMEZONE
TZID:America/Los_Angeles
BEGIN:STANDARD
TZOFFSETFROM:-0700
TZOFFSETTO:-0800
DTSTART:20251102T090000
TZNAME:PST
END:STANDARD
END:VTIMEZONE
BEGIN:VTIMEZONE
TZID:America/Los_Angeles
BEGIN:STANDARD
TZOFFSETFROM:-0700
TZOFFSETTO:-0800
DTSTART:20251102T090000
TZNAME:PST
END:STANDARD
END:VTIMEZONE
BEGIN:VEVENT
SUMMARY:Winter Solstice Celebration
DESCRIPTION:
URL;VALUE=URI:https://newneighborsguide.com/events/winter-solstice-celeb
 ration/
UID:urn:uuid:d3402a1a-18c0-45da-9a87-406a35b71bf7
STATUS:CONFIRMED
ORGANIZER:
DTSTAMP:20260423T071619Z
DTSTART;TZID=America/Los_Angeles:20251221T170000
DTEND;TZID=America/Los_Angeles:20251221T200000
END:VEVENT
END:VCALENDAR